BEGIN:VCALENDAR
VERSION:2.0
PRODID:-//OKT ICS Export//DE
CALSCALE:GREGORIAN
METHOD:PUBLISH
BEGIN:VEVENT
UID:69e9ff580a8ed4.95339780@www.kabarett.ch
DTSTAMP:20260423T131536
DTSTART:20261117T180000
DTEND:20261117T200000
SUMMARY:OltnerKabarettTage: Exklusiver Mitglieder-Anlass &#171\;blindekuh&#187\;
LOCATION:Restaurant blindekuh Zürich
END:VEVENT
END:VCALENDAR
