BEGIN:VCALENDAR
VERSION:2.0
PRODID:-//OKT ICS Export//DE
CALSCALE:GREGORIAN
METHOD:PUBLISH
BEGIN:VEVENT
UID:69e9ed0e312c10.95163357@www.kabarett.ch
DTSTAMP:20260423T115734
DTSTART:20260505T200000
DTEND:20260505T220000
SUMMARY:OltnerKabarettTage: &#171\;Wissenschaftlich angehaucht&#187\; mit Matthias Brodowy und Morell Westermann
LOCATION:Stadttheater Olten
URL:https://www.ticketweb.ch/clients/oltnerkabarett/?eventKey=MHTQBHE
END:VEVENT
END:VCALENDAR
