BEGIN:VCALENDAR
VERSION:2.0
PRODID:-//OKT ICS Export//DE
CALSCALE:GREGORIAN
METHOD:PUBLISH
BEGIN:VEVENT
UID:69eb3dbf6da896.88709900@www.kabarett.ch
DTSTAMP:20260424T115407
DTSTART:20250524T200000
DTEND:20250524T220000
SUMMARY:OltnerKabarettTage: William Wahl: wahlweise
LOCATION:Stadttheater Olten
URL:https://www.ticketweb.ch/clients/oltnerkabarett/?eventKey=XKMQPUC
END:VEVENT
END:VCALENDAR
