BEGIN:VCALENDAR
VERSION:2.0
PRODID:-//OKT ICS Export//DE
CALSCALE:GREGORIAN
METHOD:PUBLISH
BEGIN:VEVENT
UID:69eb3d28dfe596.51870400@www.kabarett.ch
DTSTAMP:20260424T115136
DTSTART:20240530T200000
DTEND:20240530T220000
SUMMARY:OltnerKabarettTage: Trampeltier of Love: Jolanda Grunder rettet Jakob Bärtschi
LOCATION:Vario Bar
URL:https://www.ticketweb.ch/clients/oltnerkabarett/?eventKey=INJZEUO
END:VEVENT
END:VCALENDAR
