BEGIN:VCALENDAR
VERSION:2.0
PRODID:-//OKT ICS Export//DE
CALSCALE:GREGORIAN
METHOD:PUBLISH
BEGIN:VEVENT
UID:69e9ea3716dfa3.72490107@www.kabarett.ch
DTSTAMP:20260423T114527
DTSTART:20260430T200000
DTEND:20260430T220000
SUMMARY:OltnerKabarettTage: touche ma bouche: Glück 2.0
LOCATION:Theaterstudio Olten
URL:https://www.ticketweb.ch/clients/oltnerkabarett/?eventKey=TGIECKE
END:VEVENT
END:VCALENDAR
