BEGIN:VCALENDAR
VERSION:2.0
PRODID:-//OKT ICS Export//DE
CALSCALE:GREGORIAN
METHOD:PUBLISH
BEGIN:VEVENT
UID:69eb3de14061f7.09212016@www.kabarett.ch
DTSTAMP:20260424T115441
DTSTART:20250523T200000
DTEND:20250523T220000
SUMMARY:OltnerKabarettTage: Tilman Birr: Birr Royal
LOCATION:Schwagertheater Olten
URL:https://www.ticketweb.ch/clients/oltnerkabarett/?eventKey=XABMSBJ
END:VEVENT
END:VCALENDAR
