BEGIN:VCALENDAR
VERSION:2.0
PRODID:-//OKT ICS Export//DE
CALSCALE:GREGORIAN
METHOD:PUBLISH
BEGIN:VEVENT
UID:69ec94f70dec66.36439927@www.kabarett.ch
DTSTAMP:20260425T121831
DTSTART:20260430T200000
DTEND:20260430T220000
SUMMARY:OltnerKabarettTage: Special-Guest-Abend mit Murzarella und Jess Jochimsen
LOCATION:Stadttheater Olten
URL:https://www.ticketweb.ch/clients/oltnerkabarett/?eventKey=GNKFTYY
END:VEVENT
END:VCALENDAR
