BEGIN:VCALENDAR
VERSION:2.0
PRODID:-//OKT ICS Export//DE
CALSCALE:GREGORIAN
METHOD:PUBLISH
BEGIN:VEVENT
UID:69eb7146ab8139.55841537@www.kabarett.ch
DTSTAMP:20260424T153358
DTSTART:20250515T200000
DTEND:20250515T220000
SUMMARY:OltnerKabarettTage: Special-Guest-Abend mit Gabor Vosteen und Sarah Hakenberg
LOCATION:Stadttheater Olten
URL:https://www.ticketweb.ch/clients/oltnerkabarett/?eventKey=IHBSKDV
END:VEVENT
END:VCALENDAR
