BEGIN:VCALENDAR
VERSION:2.0
PRODID:-//OKT ICS Export//DE
CALSCALE:GREGORIAN
METHOD:PUBLISH
BEGIN:VEVENT
UID:69e9e95e0ce504.69493385@www.kabarett.ch
DTSTAMP:20260423T114150
DTSTART:20260505T100000
DTEND:20260505T120000
SUMMARY:OltnerKabarettTage: Silberbüx: Uf alli Fäll (Kinderprogramm)
LOCATION:Stadttheater Olten
URL:https://www.ticketweb.ch/clients/oltnerkabarett/?eventKey=SPLQOKZ
END:VEVENT
END:VCALENDAR
