BEGIN:VCALENDAR
VERSION:2.0
PRODID:-//OKT ICS Export//DE
CALSCALE:GREGORIAN
METHOD:PUBLISH
BEGIN:VEVENT
UID:69e9ef37ac9782.99106733@www.kabarett.ch
DTSTAMP:20260423T120647
DTSTART:20260502T200000
DTEND:20260502T220000
SUMMARY:OltnerKabarettTage: schön&amp\;gut: Unter freiem Himmel
LOCATION:Stadttheater Olten
URL:https://www.ticketweb.ch/clients/oltnerkabarett/?eventKey=EFJDCRG
END:VEVENT
END:VCALENDAR
