BEGIN:VCALENDAR
VERSION:2.0
PRODID:-//OKT ICS Export//DE
CALSCALE:GREGORIAN
METHOD:PUBLISH
BEGIN:VEVENT
UID:69e9ea69d65ce8.01671366@www.kabarett.ch
DTSTAMP:20260423T114617
DTSTART:20260506T200000
DTEND:20260506T220000
SUMMARY:OltnerKabarettTage: Satire-Gipfel mit Philipp Loser\, Malarina\, Jane Mumford\, Reiner Kröhnert
LOCATION:Stadtteater Olten
URL:https://www.ticketweb.ch/clients/oltnerkabarett/?eventKey=AVDAJEQ
END:VEVENT
END:VCALENDAR
