BEGIN:VCALENDAR
VERSION:2.0
PRODID:-//OKT ICS Export//DE
CALSCALE:GREGORIAN
METHOD:PUBLISH
BEGIN:VEVENT
UID:69e9ed0804f032.95406445@www.kabarett.ch
DTSTAMP:20260423T115728
DTSTART:20260501T200000
DTEND:20260501T220000
SUMMARY:OltnerKabarettTage: René Sydow: Sie dürfen sich wieder setzen
LOCATION:Stadttheater Olten 
URL:https://www.ticketweb.ch/clients/oltnerkabarett/?eventKey=VBWCFYD
END:VEVENT
END:VCALENDAR
