BEGIN:VCALENDAR
VERSION:2.0
PRODID:-//OKT ICS Export//DE
CALSCALE:GREGORIAN
METHOD:PUBLISH
BEGIN:VEVENT
UID:69e9ea5ab9f462.38005334@www.kabarett.ch
DTSTAMP:20260423T114602
DTSTART:20260509T200000
DTEND:20260509T220000
SUMMARY:OltnerKabarettTage: Reiner Kröhnert: &#171\;ER&#187\; &#8211\; Jetzt wird&#8217\;s Merzwürdig!
LOCATION:Lichtspiele Olten\, nur noch Barhocker auf Bakon
URL:https://www.ticketweb.ch/clients/oltnerkabarett/?eventKey=FNDCVRD
END:VEVENT
END:VCALENDAR
