BEGIN:VCALENDAR
VERSION:2.0
PRODID:-//OKT ICS Export//DE
CALSCALE:GREGORIAN
METHOD:PUBLISH
BEGIN:VEVENT
UID:69e9ec403a0ad3.48363207@www.kabarett.ch
DTSTAMP:20260423T115408
DTSTART:20260502T200000
DTEND:20260502T220000
SUMMARY:OltnerKabarettTage: Quichotte: Alles echt
LOCATION:Kino Lichtspiele Olten\, nur noch Balkonplätze
URL:https://www.ticketweb.ch/clients/oltnerkabarett/?eventKey=IISUMCT
END:VEVENT
END:VCALENDAR
