BEGIN:VCALENDAR
VERSION:2.0
PRODID:-//OKT ICS Export//DE
CALSCALE:GREGORIAN
METHOD:PUBLISH
BEGIN:VEVENT
UID:69eb3dbeef5854.59087516@www.kabarett.ch
DTSTAMP:20260424T115406
DTSTART:20250514T200000
DTEND:20250514T220000
SUMMARY:OltnerKabarettTage: Preisverleihung Schweizer Kabarett-Preis «Cornichon»: Sarah Hakenberg
URL:https://www.ticketweb.ch/clients/oltnerkabarett/?eventKey=RKOHNEH
END:VEVENT
END:VCALENDAR
