BEGIN:VCALENDAR
VERSION:2.0
PRODID:-//OKT ICS Export//DE
CALSCALE:GREGORIAN
METHOD:PUBLISH
BEGIN:VEVENT
UID:69e9ea457f6c44.62769806@www.kabarett.ch
DTSTAMP:20260423T114541
DTSTART:20260429T200000
DTEND:20260429T220000
SUMMARY:OltnerKabarettTage: Preisverleihung Schweizer Kabarett-Preis Cornichon an Jess Jochimsen
LOCATION:Stadttheater Olten
URL:https://www.ticketweb.ch/clients/oltnerkabarett/?eventKey=EJRELNS
END:VEVENT
END:VCALENDAR
