BEGIN:VCALENDAR
VERSION:2.0
PRODID:-//OKT ICS Export//DE
CALSCALE:GREGORIAN
METHOD:PUBLISH
BEGIN:VEVENT
UID:69eb3d79846100.29990000@www.kabarett.ch
DTSTAMP:20260424T115257
DTSTART:20250516T200000
DTEND:20250516T220000
SUMMARY:OltnerKabarettTage: Olaf Bossi: Die Ausmist Comedy Show
LOCATION:Schwagertheater Olten
URL:https://www.ticketweb.ch/clients/oltnerkabarett/?eventKey=LAYQQEK
END:VEVENT
END:VCALENDAR
