BEGIN:VCALENDAR
VERSION:2.0
PRODID:-//OKT ICS Export//DE
CALSCALE:GREGORIAN
METHOD:PUBLISH
BEGIN:VEVENT
UID:69e9ec743fafc8.61273694@www.kabarett.ch
DTSTAMP:20260423T115500
DTSTART:20260507T200000
DTEND:20260507T220000
SUMMARY:OltnerKabarettTage: Ohne Rolf: Unter Druck
LOCATION:Stadtteater Olten
URL:https://www.ticketweb.ch/clients/oltnerkabarett/?eventKey=PHPUMMR
END:VEVENT
END:VCALENDAR
