BEGIN:VCALENDAR
VERSION:2.0
PRODID:-//OKT ICS Export//DE
CALSCALE:GREGORIAN
METHOD:PUBLISH
BEGIN:VEVENT
UID:69e9f77546bc69.99922366@www.kabarett.ch
DTSTAMP:20260423T124157
DTSTART:20260508T200000
DTEND:20260508T220000
SUMMARY:OltnerKabarettTage: Marco Tschirpke: Dichten\, bis ich Dresche kriege
LOCATION:Theaterstudio Olten
URL:https://www.ticketweb.ch/clients/oltnerkabarett/?eventKey=NKHQEBU
END:VEVENT
END:VCALENDAR
