BEGIN:VCALENDAR
VERSION:2.0
PRODID:-//OKT ICS Export//DE
CALSCALE:GREGORIAN
METHOD:PUBLISH
BEGIN:VEVENT
UID:69e9f0ae0cd1e9.03378919@www.kabarett.ch
DTSTAMP:20260423T121302
DTSTART:20260502T200000
DTEND:20260502T220000
SUMMARY:OltnerKabarettTage: Luca Maurizio: HOMO HUMUS
LOCATION:Schwager Theater
URL:https://www.ticketweb.ch/clients/oltnerkabarett/?eventKey=QPTLBPW
END:VEVENT
END:VCALENDAR
