BEGIN:VCALENDAR
VERSION:2.0
PRODID:-//OKT ICS Export//DE
CALSCALE:GREGORIAN
METHOD:PUBLISH
BEGIN:VEVENT
UID:69e9ea450c4de2.92766309@www.kabarett.ch
DTSTAMP:20260423T114541
DTSTART:20260504T200000
DTEND:20260504T220000
SUMMARY:OltnerKabarettTage: Kabarett meets Cartoon mit Petarde\, dem Schweizer Satirekollektiv
LOCATION:Kulturzentrum Schützi Olten
URL:https://www.ticketweb.ch/clients/oltnerkabarett/?eventKey=AHDVIIH
END:VEVENT
END:VCALENDAR
