BEGIN:VCALENDAR
VERSION:2.0
PRODID:-//OKT ICS Export//DE
CALSCALE:GREGORIAN
METHOD:PUBLISH
BEGIN:VEVENT
UID:69e9f1180b1952.84157194@www.kabarett.ch
DTSTAMP:20260423T121448
DTSTART:20260508T200000
DTEND:20260508T220000
SUMMARY:OltnerKabarettTage: Kabarett-Cocktail: 3 Kurzprogramme mit Renato Kaiser\, Melanie Haupt und Teresa Reichl
LOCATION:Stadttheater Olten
URL:https://www.ticketweb.ch/clients/oltnerkabarett/?eventKey=XINTWCL
END:VEVENT
END:VCALENDAR
