BEGIN:VCALENDAR
VERSION:2.0
PRODID:-//OKT ICS Export//DE
CALSCALE:GREGORIAN
METHOD:PUBLISH
BEGIN:VEVENT
UID:69e9e9921a62e7.00329907@www.kabarett.ch
DTSTAMP:20260423T114242
DTSTART:20260503T094500
DTEND:20260503T114500
SUMMARY:OltnerKabarettTage: Kabarett-Brunch mit Simon &amp\; Jan
LOCATION:Stadttheater Olten
URL:https://www.ticketweb.ch/clients/oltnerkabarett/?eventKey=KGJROEL
END:VEVENT
END:VCALENDAR
