BEGIN:VCALENDAR
VERSION:2.0
PRODID:-//OKT ICS Export//DE
CALSCALE:GREGORIAN
METHOD:PUBLISH
BEGIN:VEVENT
UID:69e9ea6a5224b0.53496321@www.kabarett.ch
DTSTAMP:20260423T114618
DTSTART:20260509T200000
DTEND:20260509T220000
SUMMARY:OltnerKabarettTage: Judith Bach als CLAIRE: Streuselkuchen &#8211\; ein Stück für alle
LOCATION:Schwager Theater
URL:https://www.ticketweb.ch/clients/oltnerkabarett/?eventKey=XNDUXFN
END:VEVENT
END:VCALENDAR
