BEGIN:VCALENDAR
VERSION:2.0
PRODID:-//OKT ICS Export//DE
CALSCALE:GREGORIAN
METHOD:PUBLISH
BEGIN:VEVENT
UID:69e9e969cd9e71.69627449@www.kabarett.ch
DTSTAMP:20260423T114201
DTSTART:20260502T200000
DTEND:20260502T220000
SUMMARY:OltnerKabarettTage: Jane Mumford: Leben!
LOCATION:Theaterstudio Olten
URL:https://www.ticketweb.ch/clients/oltnerkabarett/?eventKey=FABDWZN
END:VEVENT
END:VCALENDAR
