BEGIN:VCALENDAR
VERSION:2.0
PRODID:-//OKT ICS Export//DE
CALSCALE:GREGORIAN
METHOD:PUBLISH
BEGIN:VEVENT
UID:69e9e9b47933a3.33936279@www.kabarett.ch
DTSTAMP:20260423T114316
DTSTART:20260506T200000
DTEND:20260506T220000
SUMMARY:OltnerKabarettTage: Hart auf Hart: Sie sagen Stopp
LOCATION:Theaterstudio Olten
URL:https://www.ticketweb.ch/clients/oltnerkabarett/?eventKey=FCHZLPH
END:VEVENT
END:VCALENDAR
