BEGIN:VCALENDAR
VERSION:2.0
PRODID:-//OKT ICS Export//DE
CALSCALE:GREGORIAN
METHOD:PUBLISH
BEGIN:VEVENT
UID:69e9ea3699b1a7.17592582@www.kabarett.ch
DTSTAMP:20260423T114526
DTSTART:20260501T200000
DTEND:20260501T220000
SUMMARY:OltnerKabarettTage: Fee Badenius: Ich bring mich ganz gross raus
LOCATION:Schwager Theater
URL:https://www.ticketweb.ch/clients/oltnerkabarett/?eventKey=HGKNNFR
END:VEVENT
END:VCALENDAR
