BEGIN:VCALENDAR
VERSION:2.0
PRODID:-//OKT ICS Export//DE
CALSCALE:GREGORIAN
METHOD:PUBLISH
BEGIN:VEVENT
UID:69eb3c2e2787f6.26562152@www.kabarett.ch
DTSTAMP:20260424T114726
DTSTART:20250522T200000
DTEND:20250522T220000
SUMMARY:OltnerKabarettTage: Dill &amp\; Kraut: Gegen den Glanz
LOCATION:APA KultA
URL:https://www.ticketweb.ch/clients/oltnerkabarett/?eventKey=LUNNDKN
END:VEVENT
END:VCALENDAR
