BEGIN:VCALENDAR
VERSION:2.0
PRODID:-//OKT ICS Export//DE
CALSCALE:GREGORIAN
METHOD:PUBLISH
BEGIN:VEVENT
UID:69e9e9695472f4.91149292@www.kabarett.ch
DTSTAMP:20260423T114201
DTSTART:20260508T200000
DTEND:20260508T220000
SUMMARY:OltnerKabarettTage: Christoph Simon: Auf Kurs
LOCATION:Schützi Olten
URL:https://www.ticketweb.ch/clients/oltnerkabarett/?eventKey=CXJZUPE
END:VEVENT
END:VCALENDAR
