BEGIN:VCALENDAR
VERSION:2.0
PRODID:-//OKT ICS Export//DE
CALSCALE:GREGORIAN
METHOD:PUBLISH
BEGIN:VEVENT
UID:69e9e95e82f944.15417689@www.kabarett.ch
DTSTAMP:20260423T114150
DTSTART:20260509T200000
DTEND:20260509T220000
SUMMARY:OltnerKabarettTage: Christoph Sieber: Weitermachen!
LOCATION:Stadttheater Olten
URL:https://www.ticketweb.ch/clients/oltnerkabarett/?eventKey=HXBMFEK
END:VEVENT
END:VCALENDAR
