BEGIN:VCALENDAR
VERSION:2.0
PRODID:-//OKT ICS Export//DE
CALSCALE:GREGORIAN
METHOD:PUBLISH
BEGIN:VEVENT
UID:69eb3c37d1de15.75562784@www.kabarett.ch
DTSTAMP:20260424T114735
DTSTART:20250516T200000
DTEND:20250516T220000
SUMMARY:OltnerKabarettTage: Christian Ehring: Stand jetzt
LOCATION:Stadttheater Olten
URL:https://www.ticketweb.ch/clients/oltnerkabarett/?eventKey=BYJBRTQ
END:VEVENT
END:VCALENDAR
