BEGIN:VCALENDAR
VERSION:2.0
PRODID:-//OKT ICS Export//DE
CALSCALE:GREGORIAN
METHOD:PUBLISH
BEGIN:VEVENT
UID:69eb3d3307a065.60479341@www.kabarett.ch
DTSTAMP:20260424T115147
DTSTART:20250517T200000
DTEND:20250517T220000
SUMMARY:OltnerKabarettTage: Cenk: Ratlos
LOCATION:Schwagertheater Olten
URL:https://www.ticketweb.ch/clients/oltnerkabarett/?eventKey=VCSBZRT
END:VEVENT
END:VCALENDAR
